BEGIN:VCALENDAR
PRODID:-//test-a1-74322//EN
VERSION:2.0
BEGIN:VEVENT
SUMMARY:Test ATG SR: Automation Test Auction
PRIORITY:0
CLASS:PUBLIC
DTSTART:20260417T220000Z
DTEND:20260418T230000Z
DESCRIPTION:
X-ALT-DESC;FMTTYPE=text/html:
LOCATION:The Harlequin Building, London, SE1 0HR, United Kingdom
END:VEVENT
END:VCALENDAR