BEGIN:VCALENDAR
PRODID:-//sanjauct32243//EN
VERSION:2.0
BEGIN:VEVENT
SUMMARY:The Harlequin Auction original TESt: 142026 Timed auction 1 english
PRIORITY:0
CLASS:PUBLIC
DTSTART:20260401T000500Z
DTEND:20260417T012500Z
DESCRIPTION:
X-ALT-DESC;FMTTYPE=text/html:
LOCATION:HARLEQUIN BUILDING, 65 SOUTHWARK STREET, address line 3 test, address line 3, LONDON, County (example), SE1 0HR, United Kingdom
END:VEVENT
END:VCALENDAR