BEGIN:VCALENDAR
PRODID:-//pxbwl307331//EN
VERSION:2.0
BEGIN:VEVENT
SUMMARY:Proxibid WL Auctioneer: GAP-10651 Standard - Multiple Bidders, multiple increments, Published 2026-04-16 05:55:00
PRIORITY:0
CLASS:PUBLIC
DTSTART:20260416T055500Z
DTEND:20260417T055423Z
DESCRIPTION:
X-ALT-DESC;FMTTYPE=text/html:
LOCATION:Harlequin Building, 65 Southwark St, London, London, SE1 0HR, United Kingdom
END:VEVENT
END:VCALENDAR