BEGIN:VCALENDAR
PRODID:-//bonham10080//EN
VERSION:2.0
BEGIN:VEVENT
SUMMARY:Bonhams: Registration Test 3
PRIORITY:0
CLASS:PUBLIC
DTSTART:20250604T170000Z
DTEND:20260417T145000Z
DESCRIPTION:
X-ALT-DESC;FMTTYPE=text/html:
LOCATION:101 New Bond Street, London, United Kingdom, W1S 1SR, United Kingdom
END:VEVENT
END:VCALENDAR